BEGIN:VCALENDAR
VERSION:2.0
PRODID:-//Project Zero - ECPv6.7.1//NONSGML v1.0//EN
CALSCALE:GREGORIAN
METHOD:PUBLISH
X-WR-CALNAME:Project Zero
X-ORIGINAL-URL:https://projzero.com
X-WR-CALDESC:Events for Project Zero
REFRESH-INTERVAL;VALUE=DURATION:PT1H
X-Robots-Tag:noindex
X-PUBLISHED-TTL:PT1H
BEGIN:VTIMEZONE
TZID:UTC
BEGIN:STANDARD
TZOFFSETFROM:+0000
TZOFFSETTO:+0000
TZNAME:UTC
DTSTART:20210101T000000
END:STANDARD
END:VTIMEZONE
BEGIN:VEVENT
DTSTART;TZID=UTC:20210430T080000
DTEND;TZID=UTC:20210502T170000
DTSTAMP:20260421T193958
CREATED:20210705T014238Z
LAST-MODIFIED:20210717T184809Z
UID:263-1619769600-1619974800@projzero.com
SUMMARY:Northwest OHV Park
DESCRIPTION:We’re off to Bridgeport\, TX in Wise Country for 3 days/2 nights to enjoy some recreation\, connection\, and exploring some trails. Renew your sense of adventure with people who “get it” and support you.
URL:https://projzero.com/event/northwest-ohv-park/
CATEGORIES:Adventure Events
ORGANIZER;CN="Kyle Shutic":MAILTO:info@projzero.com
END:VEVENT
END:VCALENDAR