BEGIN:VCALENDAR
VERSION:2.0
PRODID:-//Project Zero - ECPv6.7.1//NONSGML v1.0//EN
CALSCALE:GREGORIAN
METHOD:PUBLISH
X-WR-CALNAME:Project Zero
X-ORIGINAL-URL:https://projzero.com
X-WR-CALDESC:Events for Project Zero
REFRESH-INTERVAL;VALUE=DURATION:PT1H
X-Robots-Tag:noindex
X-PUBLISHED-TTL:PT1H
BEGIN:VTIMEZONE
TZID:UTC
BEGIN:STANDARD
TZOFFSETFROM:+0000
TZOFFSETTO:+0000
TZNAME:UTC
DTSTART:20220101T000000
END:STANDARD
END:VTIMEZONE
BEGIN:VEVENT
DTSTART;TZID=UTC:20221217T090000
DTEND;TZID=UTC:20221217T140000
DTSTAMP:20260423T063440
CREATED:20220707T135608Z
LAST-MODIFIED:20221124T155018Z
UID:566-1671267600-1671285600@projzero.com
SUMMARY:Heroes Car Show - Tomball\, TX
DESCRIPTION:Enter your ride in our Heroes Car Show\, a fundraiser benefiting Project Zero and the First Responders and Veterans we serve!\n\nVFW Post 2427\n14408 Alice Rd\nTomball\, TX 77375\n9A – 2P \n\nSponsor & Car Registration via this LINK: https://www.classy.org/…/project-zero-2022…/e430850\nTitle Sponsors: $1K\nEvent Sponsors: $500\nBooth Sponsor: $150Whether you have a trail rig\, a smooth classic\, weekend warrior\, or daily driver make ‘em shine or bring it fresh off the trail!Awards for:\nBest in Show\nPZ Choice\nVFW Choice\nClassics\nMuscle\nTrucks\nJeep\nBikes\nOverland\nTop 10\n(Sponsor an Award from $100 – $250)Thanks to our Title & Event Sponsors so far:\nUnique HD Audio & Video\nMitchell Roofing and Exteriors\nHonda of Tomball\nBefore You Buy Inspection Services\n$25 per vehicle to enter!\nFood Vendors/Trucks\n50/50 Raffle\nRaffle/Auction Items\n\nProceeds will go to directly support Project Zero\, 501(c)(3). \n\nEach dollar helps us support a community through outdoor adventure and professional mental health services for our local Texas heroes – those men and women of our military\, veterans\, and first responders.
URL:https://projzero.com/event/heroes-car-show-tomball-tx/
LOCATION:Tomball VFW Post 2427\, 14408 Alice Rd\, Tomball\, TX\, 77379\, United States
CATEGORIES:Adventure Events,Education Events,Standard,Treatment Events
ORGANIZER;CN="Kyle Shutic":MAILTO:info@projzero.com
END:VEVENT
END:VCALENDAR