BEGIN:VCALENDAR
VERSION:2.0
PRODID:-//Project Zero - ECPv6.7.1//NONSGML v1.0//EN
CALSCALE:GREGORIAN
METHOD:PUBLISH
X-ORIGINAL-URL:https://projzero.com
X-WR-CALDESC:Events for Project Zero
REFRESH-INTERVAL;VALUE=DURATION:PT1H
X-Robots-Tag:noindex
X-PUBLISHED-TTL:PT1H
BEGIN:VTIMEZONE
TZID:UTC
BEGIN:STANDARD
TZOFFSETFROM:+0000
TZOFFSETTO:+0000
TZNAME:UTC
DTSTART:20210101T000000
END:STANDARD
END:VTIMEZONE
BEGIN:VEVENT
DTSTART;TZID=UTC:20210825T180000
DTEND;TZID=UTC:20210825T210000
DTSTAMP:20260424T052143
CREATED:20210817T134850Z
LAST-MODIFIED:20210817T135607Z
UID:389-1629914400-1629925200@projzero.com
SUMMARY:Project Zero // The Heights // Warrior Cigar Social
DESCRIPTION:You Are the Mission\nCalling all Veterans\, Fire\, Law Enforcement\, and Medical First Responders\n[COPY]
URL:https://projzero.com/event/project-zero-the-heights-warrior-cigar-social/
LOCATION:Moonshine Deck\, 1239 W 19th St\, Houston\, TX\, 77008\, United States
CATEGORIES:Treatment Events
END:VEVENT
END:VCALENDAR