BEGIN:VCALENDAR
VERSION:2.0
PRODID:-//Project Zero - ECPv6.7.1//NONSGML v1.0//EN
CALSCALE:GREGORIAN
METHOD:PUBLISH
X-ORIGINAL-URL:https://projzero.com
X-WR-CALDESC:Events for Project Zero
REFRESH-INTERVAL;VALUE=DURATION:PT1H
X-Robots-Tag:noindex
X-PUBLISHED-TTL:PT1H
BEGIN:VTIMEZONE
TZID:UTC
BEGIN:STANDARD
TZOFFSETFROM:+0000
TZOFFSETTO:+0000
TZNAME:UTC
DTSTART:20260101T000000
END:STANDARD
END:VTIMEZONE
BEGIN:VEVENT
DTSTART;TZID=UTC:20260424T120000
DTEND;TZID=UTC:20260426T120000
DTSTAMP:20260420T104906
CREATED:20260125T012145Z
LAST-MODIFIED:20260125T222545Z
UID:1079-1777032000-1777204800@projzero.com
SUMMARY:Surf Fishing
DESCRIPTION:Get ready to kickoff the 6th surf fishing season with us! \nThanks to our partners at the VA Adaptive Sports Grant we have all expenses paid Adaptive Saltwater Fishing\, working with our amazing team to not only get you on a fish\, but learn how we do it! \nYou’ll spend Friday through Sunday helping setup rods\, baits\, run lines\, and reel up whatever monster gets on the end of it! \nFill out your application\, here: https://forms.gle/M6cPSBf6kGcSTHDT9
URL:https://projzero.com/event/surf-fishing/
LOCATION:Bolivar\, TX
CATEGORIES:Adventure Events,Standard
ORGANIZER;CN="Kyle Shutic":MAILTO:info@projzero.com
END:VEVENT
END:VCALENDAR