BEGIN:VCALENDAR
VERSION:2.0
PRODID:-//Project Zero - ECPv6.7.1//NONSGML v1.0//EN
CALSCALE:GREGORIAN
METHOD:PUBLISH
X-WR-CALNAME:Project Zero
X-ORIGINAL-URL:https://projzero.com
X-WR-CALDESC:Events for Project Zero
REFRESH-INTERVAL;VALUE=DURATION:PT1H
X-Robots-Tag:noindex
X-PUBLISHED-TTL:PT1H
BEGIN:VTIMEZONE
TZID:UTC
BEGIN:STANDARD
TZOFFSETFROM:+0000
TZOFFSETTO:+0000
TZNAME:UTC
DTSTART:20240101T000000
END:STANDARD
END:VTIMEZONE
BEGIN:VEVENT
DTSTART;VALUE=DATE:20240619
DTEND;VALUE=DATE:20240624
DTSTAMP:20260421T110415
CREATED:20240508T155309Z
LAST-MODIFIED:20240508T192213Z
UID:907-1718755200-1719187199@projzero.com
SUMMARY:San Juan Mountains - Basecamp & Trails
DESCRIPTION:Project Zero is on a mission to transform veteran and first responder wellbeing through mental\, physical\, and social wellness programs. \n\n\nIn 2020\, we leaned into the idea of adventure as therapy and have been investing heavily in it ever since. \n\n\nWe believe in the outdoors and its benefits on your wellbeing and the benefits cannot be overstated. \n\n\nThis June join Project Zero as we adventure in the San Juans  for 3 days and 4 nights of an overland adventure! \nWe’ll hit some favorite trails like Engineer Pass\, the Alpine Loop\, and Poughkeepsie Gulch! \n\n\nNo rig? No problem! No gear? No problem! \n\n\nWe plan and prepare everything and cover all the expenses (travel included) so you get to show up and focus on immersing yourself in the community and in the outdoors. \n\n\nThere is a limit on attendance for every even and everyone is invited to fill out the INTEREST FORM here: https://forms.gle/sNwV4uTx2x4hpXFR6 \n\n\n**SIGN-UP DOES NOT GUARANTEE A SPOT** \n\n**ALL SIGN-UPS WILL BE VETTED AND CONFIRMED **
URL:https://projzero.com/event/san-juan-mountains-basecamp-trails/
LOCATION:Ouray\, Colorado\, Ouray\, CO\, United States
CATEGORIES:Adventure Events,Standard
ORGANIZER;CN="Kyle Shutic":MAILTO:info@projzero.com
END:VEVENT
END:VCALENDAR